BEGIN:VCALENDAR
VERSION:2.0
PRODID:-//Ljudska univerza Ravne na Koroškem - ECPv6.15.11//NONSGML v1.0//EN
CALSCALE:GREGORIAN
METHOD:PUBLISH
X-WR-CALNAME:Ljudska univerza Ravne na Koroškem
X-ORIGINAL-URL:https://lura.si
X-WR-CALDESC:Dogodki za Ljudska univerza Ravne na Koroškem
REFRESH-INTERVAL;VALUE=DURATION:PT1H
X-Robots-Tag:noindex
X-PUBLISHED-TTL:PT1H
BEGIN:VTIMEZONE
TZID:Europe/Ljubljana
BEGIN:DAYLIGHT
TZOFFSETFROM:+0100
TZOFFSETTO:+0200
TZNAME:CEST
DTSTART:20240331T010000
END:DAYLIGHT
BEGIN:STANDARD
TZOFFSETFROM:+0200
TZOFFSETTO:+0100
TZNAME:CET
DTSTART:20241027T010000
END:STANDARD
BEGIN:DAYLIGHT
TZOFFSETFROM:+0100
TZOFFSETTO:+0200
TZNAME:CEST
DTSTART:20250330T010000
END:DAYLIGHT
BEGIN:STANDARD
TZOFFSETFROM:+0200
TZOFFSETTO:+0100
TZNAME:CET
DTSTART:20251026T010000
END:STANDARD
BEGIN:DAYLIGHT
TZOFFSETFROM:+0100
TZOFFSETTO:+0200
TZNAME:CEST
DTSTART:20260329T010000
END:DAYLIGHT
BEGIN:STANDARD
TZOFFSETFROM:+0200
TZOFFSETTO:+0100
TZNAME:CET
DTSTART:20261025T010000
END:STANDARD
END:VTIMEZONE
BEGIN:VEVENT
DTSTART;TZID=Europe/Ljubljana:20251002T100000
DTEND;TZID=Europe/Ljubljana:20251002T120000
DTSTAMP:20260421T180417
CREATED:20250923T085250Z
LAST-MODIFIED:20250923T085418Z
UID:4550-1759399200-1759406400@lura.si
SUMMARY:Gozdna kopel
DESCRIPTION:Vabljeni na predavanje o gozdni kopeli\, kjer boste izvedeli\, kako vam lahko narava pomaga do več miru\, zdravja in ravnovesja. \n𝙂𝙤𝙯𝙙𝙣𝙖 𝙠𝙤𝙥𝙚𝙡 (japonsko shinrin-yoku) ni telovadba ali pohodništvo\, ampak zavestna\, počasna potopitev v gozdno okolje z vsemi čuti. Raziskave potrjujejo\, da redna izpostavljenost gozdu zmanjšuje stres\, uravnava krvni tlak\, krepi imunski sistem in izboljšuje razpoloženje. Gozd postane prostor tišine\, prisotnosti in celjenja. Je zdravilni kraj\, ki nas vrača k sebi. \nGozdna kopel je primerna za vsakogar\, ne glede na starost ali telesno pripravljenost. \n𝙆𝙙𝙖𝙟? Četrtek\, 2. 10. 2025\, ob 10. uri \n𝙆𝙟𝙚? Dnevni center Altra\, Enota Prevalje (Trg 20\, Prevalje) \n𝙄𝙯𝙫𝙖𝙟𝙖𝙡𝙠𝙖: Eva Kovačič\, dipl. m. s.\, izvajalka gozdne terapije \nUdeležba na predavanju je brezplačna. \nVabljeni\, da se skupaj podamo na pot naravne regeneracije! \n  \nPredavanje sofinancira Evropski kmetijski sklad za razvoj podeželja (EKSRP). \nLEADER – Lokalni razvoj\, ki ga vodi skupnost. \n  \n  \n  \n  \n 
URL:https://lura.si/dogodek/gozdna-kopel/
CATEGORIES:Predavanje
ATTACH;FMTTYPE=image/jpeg:https://lura.si/wp-content/uploads/2025/09/LURA_Gozdna-kopel_1_10_25.jpg
END:VEVENT
END:VCALENDAR